BEGIN:VCALENDAR
VERSION:2.0
PRODID:Spatie calendar-links
BEGIN:VEVENT
UID:88233c7bbc7925e4cc52b42007294334
SUMMARY:Protect All Children June 1st
DTSTAMP;TZID=America/Vancouver:20210601T111100
DTSTART;TZID=America/Vancouver:20210601T111100
DTEND;TZID=America/Vancouver:20210601T175500
LOCATION:601 West Broadway\, Vancouver\, BC\, Canada
END:VEVENT
END:VCALENDAR