BEGIN:VCALENDAR
VERSION:2.0
PRODID:Spatie calendar-links
BEGIN:VEVENT
UID:41b5fbb85e4d3702a3751aa6eab3228f
SUMMARY:Queen's Park May Day - End Emergency Measures
DTSTAMP;TZID=America/Toronto:20210531T090000
DTSTART;TZID=America/Toronto:20210531T090000
DTEND;TZID=America/Toronto:20210531T150000
LOCATION:110 Wellesley Street\, Toronto\, Ontario\, Canada
END:VEVENT
END:VCALENDAR