BEGIN:VCALENDAR
VERSION:2.0
PRODID:Spatie calendar-links
BEGIN:VEVENT
UID:31814ad5adbe4635fd20136e9ef11890
SUMMARY:True North Freedom Assembly June 6th Waterloo
DTSTAMP;TZID=America/Toronto:20210606T120000
DTSTART;TZID=America/Toronto:20210606T120000
DTEND;TZID=America/Toronto:20210606T150000
LOCATION:75 King St South\, Waterloo\, Ontario\, Canada
END:VEVENT
END:VCALENDAR