BEGIN:VCALENDAR
VERSION:2.0
PRODID:Spatie calendar-links
BEGIN:VEVENT
UID:4f028e71dc2b750109833d9749a9f1ac
SUMMARY:Calgary Freedom Mile June 5th
DTSTAMP;TZID=America/Edmonton:20210605T150000
DTSTART;TZID=America/Edmonton:20210605T150000
DTEND;TZID=America/Edmonton:20210605T180000
LOCATION:Calgary\, Alberta\, Canada
END:VEVENT
END:VCALENDAR