BEGIN:VCALENDAR
VERSION:2.0
PRODID:Spatie calendar-links
BEGIN:VEVENT
UID:1951efe1dff35c08c0257e9dc179bc32
SUMMARY:Canada Day Celebration of Freedom!
DTSTAMP;TZID=America/Los_Angeles:20210701T130000
DTSTART;TZID=America/Los_Angeles:20210701T130000
DTEND;TZID=America/Los_Angeles:20210701T220000
LOCATION:1204 Beach Avenue\, Vancouver\, British Columbia\, Canada
END:VEVENT
END:VCALENDAR