BEGIN:VCALENDAR
VERSION:2.0
PRODID:Spatie calendar-links
BEGIN:VEVENT
UID:2029c598a72ad93e8452910836a62f0c
SUMMARY:First Annual Donkey Trot Protest 10K
DTSTAMP;TZID=America/Los_Angeles:20210612T080000
DTSTART;TZID=America/Los_Angeles:20210612T080000
DTEND;TZID=America/Los_Angeles:20210612T110000
LOCATION:1706  Pine Street\, Vancouver\, British Columbia\, Canada
END:VEVENT
END:VCALENDAR