BEGIN:VCALENDAR
VERSION:2.0
PRODID:Spatie calendar-links
BEGIN:VEVENT
UID:658c3aaa951e7caa95e5c65b58b5188e
SUMMARY:Picnic in the Park Stratford June 5th
DTSTAMP;TZID=America/Vancouver:20210605T120000
DTSTART;TZID=America/Vancouver:20210605T120000
DTEND;TZID=America/Vancouver:20210605T140000
LOCATION:Stratford\, Ontario\, Canada
END:VEVENT
END:VCALENDAR