BEGIN:VCALENDAR
VERSION:2.0
PRODID:Spatie calendar-links
BEGIN:VEVENT
UID:602c10355edc2eb07a93eb52e5461fae
SUMMARY:Freedom Festival & Market June 5th London
DTSTAMP;TZID=America/Toronto:20210605T120000
DTSTART;TZID=America/Toronto:20210605T120000
DTEND;TZID=America/Toronto:20210605T150000
LOCATION:London\, Ontario\, Canada
END:VEVENT
END:VCALENDAR