BEGIN:VCALENDAR
VERSION:2.0
PRODID:Spatie calendar-links
BEGIN:VEVENT
UID:beff5cf8c0931983ca165d7c75f3abd0
SUMMARY:Protect All Children June 9th Vancouver
DTSTAMP;TZID=America/Vancouver:20210609T170000
DTSTART;TZID=America/Vancouver:20210609T170000
DTEND;TZID=America/Vancouver:20210609T190000
LOCATION:Vancouver\, BC\, Canada
END:VEVENT
END:VCALENDAR