BEGIN:VCALENDAR
VERSION:2.0
PRODID:Spatie calendar-links
BEGIN:VEVENT
UID:a24c89b7ac1ce77265b491103d1adeb1
SUMMARY:Humans 4 Humanity Good Vibes Group Official Launch
DTSTAMP;TZID=America/Vancouver:20210609T160000
DTSTART;TZID=America/Vancouver:20210609T160000
DTEND;TZID=America/Vancouver:20210609T170000
END:VEVENT
END:VCALENDAR