BEGIN:VCALENDAR
VERSION:2.0
PRODID:Spatie calendar-links
BEGIN:VEVENT
UID:91f85b939caf1c3fd6170aa1dba56970
SUMMARY:Saturday Peaceful Protests Victoria
DTSTAMP;TZID=America/Vancouver:20210612T120000
DTSTART;TZID=America/Vancouver:20210612T120000
DTEND;TZID=America/Vancouver:20210612T140000
LOCATION:Victoria\, BC \, Canada
END:VEVENT
END:VCALENDAR