BEGIN:VCALENDAR
VERSION:2.0
PRODID:Spatie calendar-links
BEGIN:VEVENT
UID:bd04f4e707fbffe16e116c124ac8e232
SUMMARY:Edmonton Freedom Rally June 9th
DTSTAMP;TZID=America/Edmonton:20210609T180000
DTSTART;TZID=America/Edmonton:20210609T180000
DTEND;TZID=America/Edmonton:20210609T200000
LOCATION:Edmonton\, Alberta\, Canada
END:VEVENT
END:VCALENDAR