BEGIN:VCALENDAR
VERSION:2.0
PRODID:Spatie calendar-links
BEGIN:VEVENT
UID:f83c885215339cff8f57e52fe28f469f
SUMMARY:Turtle Island Meeting Coast to Coast June 19th
DTSTAMP;TZID=America/Vancouver:20210610T120000
DTSTART;TZID=America/Vancouver:20210610T120000
DTEND;TZID=America/Vancouver:20210610T140000
LOCATION:Canada
END:VEVENT
END:VCALENDAR