BEGIN:VCALENDAR
VERSION:2.0
PRODID:Spatie calendar-links
BEGIN:VEVENT
UID:07974304c6b2556e7d9297568945e6b6
SUMMARY:Resistance is not Futile Kelowna  June 19th
DTSTAMP;TZID=America/Vancouver:20210619T120000
DTSTART;TZID=America/Vancouver:20210619T120000
DTEND;TZID=America/Vancouver:20210619T153000
LOCATION:Kelowna\, BC\, Canada
END:VEVENT
END:VCALENDAR