BEGIN:VCALENDAR
VERSION:2.0
PRODID:Spatie calendar-links
BEGIN:VEVENT
UID:edc6c1087025e26bd650220a642f243e
SUMMARY:Town Hall Salmon Arm June 10th
DTSTAMP;TZID=America/Vancouver:20210610T170000
DTSTART;TZID=America/Vancouver:20210610T170000
DTEND;TZID=America/Vancouver:20210610T190000
LOCATION:Salmon Arm\, BC\, Canada
END:VEVENT
END:VCALENDAR