BEGIN:VCALENDAR
VERSION:2.0
PRODID:Spatie calendar-links
BEGIN:VEVENT
UID:beb31f0aeb12b2eec59178aefdcd95c3
SUMMARY:Town Hall Vernon June 11th
DTSTAMP;TZID=America/Vancouver:20210611T154500
DTSTART;TZID=America/Vancouver:20210611T154500
DTEND;TZID=America/Vancouver:20210611T180000
LOCATION:Vernon\, BC\, Canada
END:VEVENT
END:VCALENDAR