BEGIN:VCALENDAR
VERSION:2.0
PRODID:Spatie calendar-links
BEGIN:VEVENT
UID:7d52e49125e45f7202cc81ff5941d11a
SUMMARY:Support group for metal strength and spiritual awareness
DTSTAMP;TZID=America/Los_Angeles:20210119T180000
DTSTART;TZID=America/Los_Angeles:20210119T180000
DTEND;TZID=America/Los_Angeles:20210119T200000
LOCATION:Burnaby\, BC\, Canada
END:VEVENT
END:VCALENDAR