BEGIN:VCALENDAR
VERSION:2.0
PRODID:Spatie calendar-links
BEGIN:VEVENT
UID:3f683dad6efa74a5189db73808ee2238
SUMMARY:Town Hall Kelowna June 11th
DTSTAMP;TZID=America/Vancouver:20210611T190000
DTSTART;TZID=America/Vancouver:20210611T190000
DTEND;TZID=America/Vancouver:20210611T210000
LOCATION:Kelowna\, BC\, Canada
END:VEVENT
END:VCALENDAR