BEGIN:VCALENDAR
VERSION:2.0
PRODID:Spatie calendar-links
BEGIN:VEVENT
UID:f18a260d9963d559987ace6b9bb96b96
SUMMARY:Concerned Parents & Teen Rally June 12th Regina
DTSTAMP;TZID=America/Regina:20210612T110000
DTSTART;TZID=America/Regina:20210612T110000
DTEND;TZID=America/Regina:20210612T130000
LOCATION:Regina\, Saskatchewan \, Canada
END:VEVENT
END:VCALENDAR