BEGIN:VCALENDAR
VERSION:2.0
PRODID:Spatie calendar-links
BEGIN:VEVENT
UID:ff4abc0ada573a0f0031bc6c520f31c8
SUMMARY:Calgary Freedom Mile June 12th
DTSTAMP;TZID=America/Edmonton:20210612T130000
DTSTART;TZID=America/Edmonton:20210612T130000
DTEND;TZID=America/Edmonton:20210612T160000
LOCATION:Calgary\, Alberta\, Canada
END:VEVENT
END:VCALENDAR