BEGIN:VCALENDAR
VERSION:2.0
PRODID:Spatie calendar-links
BEGIN:VEVENT
UID:4eca977ae805ed7c6124e2612df5f693
SUMMARY:Mad Max Tour Manitoba (June 11th to 13th) 10 Locations
DTSTAMP;TZID=America/Winnipeg:20210611T113000
DTSTART;TZID=America/Winnipeg:20210611T113000
DTEND;TZID=America/Winnipeg:20210613T170000
LOCATION:Canada
END:VEVENT
END:VCALENDAR