BEGIN:VCALENDAR
VERSION:2.0
PRODID:Spatie calendar-links
BEGIN:VEVENT
UID:d457a79b2ca9d82cb0d7ea5e41b85df4
SUMMARY:Epic Freedom Worship Rally
DTSTAMP;TZID=America/Los_Angeles:20210613T110000
DTSTART;TZID=America/Los_Angeles:20210613T110000
DTEND;TZID=America/Los_Angeles:20210613T130000
LOCATION:1055 Canada Place\, Vancouver\, British Columbia\, Canada
END:VEVENT
END:VCALENDAR