BEGIN:VCALENDAR
VERSION:2.0
PRODID:Spatie calendar-links
BEGIN:VEVENT
UID:ea079e02bf5737ba3e5cee2581630651
SUMMARY:Scott Kesterson from BardofWar
DTSTAMP;TZID=America/Vancouver:20210624T040000
DTSTART;TZID=America/Vancouver:20210624T040000
DTEND;TZID=America/Vancouver:20210624T050000
END:VEVENT
END:VCALENDAR