BEGIN:VCALENDAR
VERSION:2.0
PRODID:Spatie calendar-links
BEGIN:VEVENT
UID:325ec2cd5feff21d7c9852a48d1200af
SUMMARY:Free Max Rally
DTSTAMP;TZID=America/Winnipeg:20210612T140000
DTSTART;TZID=America/Winnipeg:20210612T140000
DTEND;TZID=America/Winnipeg:20210612T170000
LOCATION:1 Forks Market Rd.\, Winnipeg\, Manitoba\, Canada
END:VEVENT
END:VCALENDAR