BEGIN:VCALENDAR
VERSION:2.0
PRODID:Spatie calendar-links
BEGIN:VEVENT
UID:d65aaa945d3cc38823a67760177bd62b
SUMMARY:No New Normal March to Sunset Beach June 13th
DTSTAMP;TZID=America/Vancouver:20210613T130000
DTSTART;TZID=America/Vancouver:20210613T130000
DTEND;TZID=America/Vancouver:20210613T160000
LOCATION:vancouver\, BC\, Canada
END:VEVENT
END:VCALENDAR