BEGIN:VCALENDAR
VERSION:2.0
PRODID:Spatie calendar-links
BEGIN:VEVENT
UID:c30ab7eebcb539e0e2b0a5ddaf26fe71
SUMMARY:Protect All Children June 14th 
DTSTAMP;TZID=America/Vancouver:20210614T170000
DTSTART;TZID=America/Vancouver:20210614T170000
DTEND;TZID=America/Vancouver:20210614T200000
LOCATION:Vancouver\, BC\, Canada
END:VEVENT
END:VCALENDAR