BEGIN:VCALENDAR
VERSION:2.0
PRODID:Spatie calendar-links
BEGIN:VEVENT
UID:47598817525d096a52f98b4c2121d7b5
SUMMARY:Fellowship of the Awake
DTSTAMP;TZID=America/Los_Angeles:20210713T180000
DTSTART;TZID=America/Los_Angeles:20210713T180000
DTEND;TZID=America/Los_Angeles:20210713T200000
END:VEVENT
END:VCALENDAR