BEGIN:VCALENDAR
VERSION:2.0
PRODID:Spatie calendar-links
BEGIN:VEVENT
UID:496451ea034c3ca640d91aa3e042a97b
SUMMARY:World Wide Rally July 24th Vancouver
DTSTAMP;TZID=America/Vancouver:20210724T140000
DTSTART;TZID=America/Vancouver:20210724T140000
DTEND;TZID=America/Vancouver:20210724T220000
LOCATION:Vancouver\, BC\, Canada
END:VEVENT
END:VCALENDAR