BEGIN:VCALENDAR
VERSION:2.0
PRODID:Spatie calendar-links
BEGIN:VEVENT
UID:6f1980a30966dbc85c391e99c0444ce4
SUMMARY:World Wide Rally July 24th Victoria
DTSTAMP;TZID=America/Vancouver:20210724T120000
DTSTART;TZID=America/Vancouver:20210724T120000
DTEND;TZID=America/Vancouver:20210724T150000
LOCATION:Victoria\, BC\, Canada
END:VEVENT
END:VCALENDAR