BEGIN:VCALENDAR
VERSION:2.0
PRODID:Spatie calendar-links
BEGIN:VEVENT
UID:e2a51a35779faccfbc77129dab0a8d47
SUMMARY:World Wide Rally July 24th London
DTSTAMP;TZID=America/Toronto:20210724T130000
DTSTART;TZID=America/Toronto:20210724T130000
DTEND;TZID=America/Toronto:20210724T160000
LOCATION:London\, Ontario\, Canada
END:VEVENT
END:VCALENDAR