BEGIN:VCALENDAR
VERSION:2.0
PRODID:Spatie calendar-links
BEGIN:VEVENT
UID:61c6b7a70ae778a56e71f92432c4c33d
SUMMARY:World Wide Rally July 24th Edmonton
DTSTAMP;TZID=America/Edmonton:20210724T130000
DTSTART;TZID=America/Edmonton:20210724T130000
DTEND;TZID=America/Edmonton:20210724T160000
LOCATION:Edmonton\, Alberta\, Canada
END:VEVENT
END:VCALENDAR