BEGIN:VCALENDAR
VERSION:2.0
PRODID:Spatie calendar-links
BEGIN:VEVENT
UID:bcfaca7169c1230853e9b47d2dfa399a
SUMMARY:The Freedom For Truth Conference
DTSTAMP;TZID=America/Los_Angeles:20210618T170000
DTSTART;TZID=America/Los_Angeles:20210618T170000
DTEND;TZID=America/Los_Angeles:20210618T190000
END:VEVENT
END:VCALENDAR