BEGIN:VCALENDAR
VERSION:2.0
PRODID:Spatie calendar-links
BEGIN:VEVENT
UID:9e68295f8d7fe2bc7c0a4cb8897ab56e
SUMMARY:Protect All Children
DTSTAMP;TZID=America/Los_Angeles:20210618T111100
DTSTART;TZID=America/Los_Angeles:20210618T111100
DTEND;TZID=America/Los_Angeles:20210618T130000
LOCATION:550 West 6th Avenue\, Vancouver\, British Columbia\, Canada
END:VEVENT
END:VCALENDAR