BEGIN:VCALENDAR
VERSION:2.0
PRODID:Spatie calendar-links
BEGIN:VEVENT
UID:597bbdb40a939604516fa1c32a11e585
SUMMARY:Vancouver Island Freedom Rally July 1st Alberni Valley
DTSTAMP;TZID=America/Vancouver:20210701T120000
DTSTART;TZID=America/Vancouver:20210701T120000
DTEND;TZID=America/Vancouver:20210701T150000
LOCATION:Port Alberni\, BC\, Canada
END:VEVENT
END:VCALENDAR