BEGIN:VCALENDAR
VERSION:2.0
PRODID:Spatie calendar-links
BEGIN:VEVENT
UID:adcdf8a1fc8624e8fd26faf2cc0a7351
SUMMARY:Canada Day Celebration July 1st Ottawa
DTSTAMP;TZID=America/Toronto:20210701T120000
DTSTART;TZID=America/Toronto:20210701T120000
DTEND;TZID=America/Toronto:20210701T150000
LOCATION:Ottawa\, Ontario\, Canada
END:VEVENT
END:VCALENDAR