BEGIN:VCALENDAR
VERSION:2.0
PRODID:Spatie calendar-links
BEGIN:VEVENT
UID:18dd834ff3a55a3c7d628f4e04c5f5ac
SUMMARY:No More Lockdowns Queenston June 26th
DTSTAMP;TZID=America/Toronto:20210626T120000
DTSTART;TZID=America/Toronto:20210626T120000
DTEND;TZID=America/Toronto:20210626T130000
LOCATION:Queenston\, Ontario\, Canada
END:VEVENT
END:VCALENDAR