BEGIN:VCALENDAR
VERSION:2.0
PRODID:Spatie calendar-links
BEGIN:VEVENT
UID:a4903538704d39248bf83f183bd59439
SUMMARY:Dominion Day July 1st Ottawa
DTSTAMP;TZID=America/Toronto:20210701T103000
DTSTART;TZID=America/Toronto:20210701T103000
DTEND;TZID=America/Toronto:20210701T150000
LOCATION:Ottawa\, Ontario\, Canada
END:VEVENT
END:VCALENDAR