BEGIN:VCALENDAR
VERSION:2.0
PRODID:Spatie calendar-links
BEGIN:VEVENT
UID:87eb132031307a7bd21f6773f49cd951
SUMMARY:Rally for Freedom June 26th Calgary
DTSTAMP;TZID=America/Edmonton:20210626T130000
DTSTART;TZID=America/Edmonton:20210626T130000
DTEND;TZID=America/Edmonton:20210626T160000
LOCATION:Calgary\, Alberta\, Canada
END:VEVENT
END:VCALENDAR