BEGIN:VCALENDAR
VERSION:2.0
PRODID:Spatie calendar-links
BEGIN:VEVENT
UID:de656df4d95d8fef3de4652560494dc8
SUMMARY:Humans 4 Humanity Good Vibes Support 
DTSTAMP;TZID=America/Vancouver:20210625T120000
DTSTART;TZID=America/Vancouver:20210625T120000
DTEND;TZID=America/Vancouver:20210625T130000
END:VEVENT
END:VCALENDAR