BEGIN:VCALENDAR
VERSION:2.0
PRODID:Spatie calendar-links
BEGIN:VEVENT
UID:ea56e2248d0ab1c93ba6d8212cb455d7
SUMMARY:United To Take a Stand. June 28th Toronto
DTSTAMP;TZID=America/Toronto:20210628T100000
DTSTART;TZID=America/Toronto:20210628T100000
DTEND;TZID=America/Toronto:20210628T130000
LOCATION:Toronto\, Ontario\, Canada
END:VEVENT
END:VCALENDAR