BEGIN:VCALENDAR
VERSION:2.0
PRODID:Spatie calendar-links
BEGIN:VEVENT
UID:ec0ed0864a9da433c52720fa882fdb99
SUMMARY:Wellness Cafe outreach for mental health and community 
DTSTAMP;TZID=America/Los_Angeles:20210709T190000
DTSTART;TZID=America/Los_Angeles:20210709T190000
DTEND;TZID=America/Los_Angeles:20210709T220000
END:VEVENT
END:VCALENDAR