BEGIN:VCALENDAR
VERSION:2.0
PRODID:Spatie calendar-links
BEGIN:VEVENT
UID:2349a68827a23c6d483cdc711ca9f0ac
SUMMARY:TAKE BACK CANADA PROTESTIVAL
DTSTAMP;TZID=America/Los_Angeles:20210701T100000
DTSTART;TZID=America/Los_Angeles:20210701T100000
DTEND;TZID=America/Los_Angeles:20210701T170000
LOCATION:4390 Kehler Street\, Chilliwack\, British Columbia\, Canada
END:VEVENT
END:VCALENDAR