BEGIN:VCALENDAR
VERSION:2.0
PRODID:Spatie calendar-links
BEGIN:VEVENT
UID:b352180c38accab0f225d3263e277967
SUMMARY:World Wide Rally July 24th Toronto
DTSTAMP;TZID=America/Toronto:20210724T120000
DTSTART;TZID=America/Toronto:20210724T120000
DTEND;TZID=America/Toronto:20210724T150000
LOCATION:Toronto\, Ontario\, Canada
END:VEVENT
END:VCALENDAR