BEGIN:VCALENDAR
VERSION:2.0
PRODID:Spatie calendar-links
BEGIN:VEVENT
UID:a53fbf084db3a493d8b636b24749948f
SUMMARY:World Wide Rally July 24th Charlottetown
DTSTAMP;TZID=America/St_Johns:20210724T120000
DTSTART;TZID=America/St_Johns:20210724T120000
DTEND;TZID=America/St_Johns:20210724T150000
LOCATION:Charlottetown\, Prince Edward Island\, Canada
END:VEVENT
END:VCALENDAR