BEGIN:VCALENDAR
VERSION:2.0
PRODID:Spatie calendar-links
BEGIN:VEVENT
UID:86e0ca83883700d56907037b1f6de1b9
SUMMARY:Web and  Media services
DTSTAMP;TZID=America/Toronto:20210126T081800
DTSTART;TZID=America/Toronto:20210126T081800
DTEND;TZID=America/Toronto:20210126T081800
END:VEVENT
END:VCALENDAR