BEGIN:VCALENDAR
VERSION:2.0
PRODID:Spatie calendar-links
BEGIN:VEVENT
UID:aad051871ea65f859f42147453dfd96c
SUMMARY:World Wide Rally July 24th Calgary
DTSTAMP;TZID=America/Edmonton:20210724T130000
DTSTART;TZID=America/Edmonton:20210724T130000
DTEND;TZID=America/Edmonton:20210724T160000
LOCATION:Calgary\, Alberta\, Canada
END:VEVENT
END:VCALENDAR