BEGIN:VCALENDAR
VERSION:2.0
PRODID:Spatie calendar-links
BEGIN:VEVENT
UID:fed4a244c3e59cfacec4a34be9fe639d
SUMMARY:History Making Court Trial
DTSTAMP;TZID=America/Toronto:20210628T100000
DTSTART;TZID=America/Toronto:20210628T100000
DTEND;TZID=America/Toronto:20210629T100000
LOCATION:Canada
END:VEVENT
END:VCALENDAR