BEGIN:VCALENDAR
VERSION:2.0
PRODID:Spatie calendar-links
BEGIN:VEVENT
UID:220445463be009903b4b2b362ecf68a2
SUMMARY:World Wide Rally July 24th Nanaimo
DTSTAMP;TZID=America/Vancouver:20210724T110000
DTSTART;TZID=America/Vancouver:20210724T110000
DTEND;TZID=America/Vancouver:20210724T150000
LOCATION:Nanaimo\, BC\, Canada
END:VEVENT
END:VCALENDAR