BEGIN:VCALENDAR
VERSION:2.0
PRODID:Spatie calendar-links
BEGIN:VEVENT
UID:68e650b25f403ef582b9b212c7ba2ec6
SUMMARY:CFPAC Streaming Live June 30th Ottawa 
DTSTAMP;TZID=America/Toronto:20210630T180000
DTSTART;TZID=America/Toronto:20210630T180000
DTEND;TZID=America/Toronto:20210630T200000
LOCATION:Ottawa\, Ontario\, Canada
END:VEVENT
END:VCALENDAR