BEGIN:VCALENDAR
VERSION:2.0
PRODID:Spatie calendar-links
BEGIN:VEVENT
UID:3e7f0a5556bebe20f53ce672b8829cf5
SUMMARY:Lloydminster Freedom Rally 
DTSTAMP;TZID=America/Edmonton:20210206T114500
DTSTART;TZID=America/Edmonton:20210206T114500
DTEND;TZID=America/Edmonton:20210207T010000
LOCATION:Lloydminster\, AB\, Canada
END:VEVENT
END:VCALENDAR